BEGIN:VCALENDAR
VERSION:2.0
PRODID:-//Delta Sigma Theta Sorority, Inc. Quaker City Alumnae Chapter - ECPv6.15.20//NONSGML v1.0//EN
CALSCALE:GREGORIAN
METHOD:PUBLISH
X-ORIGINAL-URL:https://dstquakercity.org
X-WR-CALDESC:Events for Delta Sigma Theta Sorority, Inc. Quaker City Alumnae Chapter
REFRESH-INTERVAL;VALUE=DURATION:PT1H
X-Robots-Tag:noindex
X-PUBLISHED-TTL:PT1H
BEGIN:VTIMEZONE
TZID:America/New_York
BEGIN:DAYLIGHT
TZOFFSETFROM:-0500
TZOFFSETTO:-0400
TZNAME:EDT
DTSTART:20210314T070000
END:DAYLIGHT
BEGIN:STANDARD
TZOFFSETFROM:-0400
TZOFFSETTO:-0500
TZNAME:EST
DTSTART:20211107T060000
END:STANDARD
BEGIN:DAYLIGHT
TZOFFSETFROM:-0500
TZOFFSETTO:-0400
TZNAME:EDT
DTSTART:20220313T070000
END:DAYLIGHT
BEGIN:STANDARD
TZOFFSETFROM:-0400
TZOFFSETTO:-0500
TZNAME:EST
DTSTART:20221106T060000
END:STANDARD
BEGIN:DAYLIGHT
TZOFFSETFROM:-0500
TZOFFSETTO:-0400
TZNAME:EDT
DTSTART:20230312T070000
END:DAYLIGHT
BEGIN:STANDARD
TZOFFSETFROM:-0400
TZOFFSETTO:-0500
TZNAME:EST
DTSTART:20231105T060000
END:STANDARD
END:VTIMEZONE
BEGIN:VEVENT
DTSTART;TZID=America/New_York:20220507T190000
DTEND;TZID=America/New_York:20220507T210000
DTSTAMP:20260419T191703
CREATED:20220316T215750Z
LAST-MODIFIED:20220408T132208Z
UID:1869-1651950000-1651957200@dstquakercity.org
SUMMARY:Artists Cafe
DESCRIPTION:REGISTER & BUY TICKETS
URL:https://dstquakercity.org/event/artists-cafe/
ATTACH;FMTTYPE=image/jpeg:https://dstquakercity.org/wp-content/uploads/2022/03/DST-QCA-Artists-Cafe_May-7_Save-The-Date.jpg
END:VEVENT
BEGIN:VEVENT
DTSTART;TZID=America/New_York:20220510T180000
DTEND;TZID=America/New_York:20220510T190000
DTSTAMP:20260419T191703
CREATED:20220425T125523Z
LAST-MODIFIED:20220425T125523Z
UID:1911-1652205600-1652209200@dstquakercity.org
SUMMARY:Resolution Reboot
DESCRIPTION:Click here to register
URL:https://dstquakercity.org/event/resolution-reboot/
ATTACH;FMTTYPE=image/jpeg:https://dstquakercity.org/wp-content/uploads/2022/04/IMG_0877.jpg
END:VEVENT
BEGIN:VEVENT
DTSTART;TZID=America/New_York:20220511T183000
DTEND;TZID=America/New_York:20220511T203000
DTSTAMP:20260419T191703
CREATED:20220424T224226Z
LAST-MODIFIED:20220424T224435Z
UID:1907-1652293800-1652301000@dstquakercity.org
SUMMARY:What's up with Student Loans
DESCRIPTION:Click here to register
URL:https://dstquakercity.org/event/whats-up-with-student-loans/
ATTACH;FMTTYPE=image/jpeg:https://dstquakercity.org/wp-content/uploads/2022/04/Image.jpeg
END:VEVENT
BEGIN:VEVENT
DTSTART;TZID=America/New_York:20220514T160000
DTEND;TZID=America/New_York:20220514T200000
DTSTAMP:20260419T191703
CREATED:20220415T175542Z
LAST-MODIFIED:20220502T105528Z
UID:1897-1652544000-1652558400@dstquakercity.org
SUMMARY:Fish Fry
DESCRIPTION:
URL:https://dstquakercity.org/event/fish-fry/
LOCATION:22nd Street Cafe\, 1266 S. 22nd Street\, Philadelphia\, PA\, 19146
ATTACH;FMTTYPE=image/jpeg:https://dstquakercity.org/wp-content/uploads/2022/04/3E6287DE-1.jpg
END:VEVENT
BEGIN:VEVENT
DTSTART;TZID=America/New_York:20220518T190000
DTEND;TZID=America/New_York:20220518T210000
DTSTAMP:20260419T191703
CREATED:20220424T163503Z
LAST-MODIFIED:20220424T163503Z
UID:1904-1652900400-1652907600@dstquakercity.org
SUMMARY:The Redz Table Talk: Part 2
DESCRIPTION:Click here to register
URL:https://dstquakercity.org/event/the-redz-table-talk-part-2/
LOCATION:Virtual
ATTACH;FMTTYPE=image/jpeg:https://dstquakercity.org/wp-content/uploads/2022/04/phonto.jpg
END:VEVENT
END:VCALENDAR