BEGIN:VCALENDAR
VERSION:2.0
PRODID:-//Delta Sigma Theta Sorority, Inc. Quaker City Alumnae Chapter - ECPv6.15.20//NONSGML v1.0//EN
CALSCALE:GREGORIAN
METHOD:PUBLISH
X-WR-CALNAME:Delta Sigma Theta Sorority, Inc. Quaker City Alumnae Chapter
X-ORIGINAL-URL:https://dstquakercity.org
X-WR-CALDESC:Events for Delta Sigma Theta Sorority, Inc. Quaker City Alumnae Chapter
REFRESH-INTERVAL;VALUE=DURATION:PT1H
X-Robots-Tag:noindex
X-PUBLISHED-TTL:PT1H
BEGIN:VTIMEZONE
TZID:America/New_York
BEGIN:DAYLIGHT
TZOFFSETFROM:-0500
TZOFFSETTO:-0400
TZNAME:EDT
DTSTART:20200308T070000
END:DAYLIGHT
BEGIN:STANDARD
TZOFFSETFROM:-0400
TZOFFSETTO:-0500
TZNAME:EST
DTSTART:20201101T060000
END:STANDARD
BEGIN:DAYLIGHT
TZOFFSETFROM:-0500
TZOFFSETTO:-0400
TZNAME:EDT
DTSTART:20210314T070000
END:DAYLIGHT
BEGIN:STANDARD
TZOFFSETFROM:-0400
TZOFFSETTO:-0500
TZNAME:EST
DTSTART:20211107T060000
END:STANDARD
BEGIN:DAYLIGHT
TZOFFSETFROM:-0500
TZOFFSETTO:-0400
TZNAME:EDT
DTSTART:20220313T070000
END:DAYLIGHT
BEGIN:STANDARD
TZOFFSETFROM:-0400
TZOFFSETTO:-0500
TZNAME:EST
DTSTART:20221106T060000
END:STANDARD
END:VTIMEZONE
BEGIN:VEVENT
DTSTART;TZID=America/New_York:20211004T190000
DTEND;TZID=America/New_York:20211004T200000
DTSTAMP:20260420T055436
CREATED:20210918T232405Z
LAST-MODIFIED:20210928T032659Z
UID:1653-1633374000-1633377600@dstquakercity.org
SUMMARY:Community Preparedness Discussion
DESCRIPTION:Registration
URL:https://dstquakercity.org/event/community-preparedness-discussion-2/
ATTACH;FMTTYPE=image/png:https://dstquakercity.org/wp-content/uploads/2021/09/ERT.png
END:VEVENT
BEGIN:VEVENT
DTSTART;TZID=America/New_York:20211009T130000
DTEND;TZID=America/New_York:20211009T150000
DTSTAMP:20260420T055436
CREATED:20210910T200104Z
LAST-MODIFIED:20210911T170458Z
UID:1642-1633784400-1633791600@dstquakercity.org
SUMMARY:Period Poverty Project
DESCRIPTION:Click into the event for\n Donations
URL:https://dstquakercity.org/event/period-poverty-porject/
ATTACH;FMTTYPE=image/jpeg:https://dstquakercity.org/wp-content/uploads/2021/09/phonto15.jpg
END:VEVENT
BEGIN:VEVENT
DTSTART;TZID=America/New_York:20211017T143000
DTEND;TZID=America/New_York:20211017T173000
DTSTAMP:20260420T055436
CREATED:20210928T032011Z
LAST-MODIFIED:20210928T032136Z
UID:1667-1634481000-1634491800@dstquakercity.org
SUMMARY:45th Anniversary Celebration
DESCRIPTION:Buy Tickets
URL:https://dstquakercity.org/event/1667/
ATTACH;FMTTYPE=image/jpeg:https://dstquakercity.org/wp-content/uploads/2021/09/45th-Anniversary.jpg
END:VEVENT
BEGIN:VEVENT
DTSTART;TZID=America/New_York:20211024T010000
DTEND;TZID=America/New_York:20211024T160000
DTSTAMP:20260420T055436
CREATED:20211005T132911Z
LAST-MODIFIED:20211022T163554Z
UID:1702-1635037200-1635091200@dstquakercity.org
SUMMARY:Sunday Skate
DESCRIPTION:Ticket Sales Have Ended 
URL:https://dstquakercity.org/event/sunday-skate/
ATTACH;FMTTYPE=image/png:https://dstquakercity.org/wp-content/uploads/2021/10/QCA-Sunday-Skate-10.24.21.png
END:VEVENT
BEGIN:VEVENT
DTSTART;TZID=America/New_York:20211025T190000
DTEND;TZID=America/New_York:20211025T200000
DTSTAMP:20260420T055436
CREATED:20211014T164119Z
LAST-MODIFIED:20211014T164242Z
UID:1714-1635188400-1635192000@dstquakercity.org
SUMMARY:Delta Gems & Delta Academy Parent Meeting
DESCRIPTION:Register Now
URL:https://dstquakercity.org/event/delta-gems-delta-academy-parent-meeting/
ATTACH;FMTTYPE=image/jpeg:https://dstquakercity.org/wp-content/uploads/2021/10/Screenshot_20211013-155045_Adobe_Acrobat.jpg
END:VEVENT
END:VCALENDAR