BEGIN:VCALENDAR
VERSION:2.0
PRODID:-//Delta Sigma Theta Sorority, Inc. Quaker City Alumnae Chapter - ECPv6.15.20//NONSGML v1.0//EN
CALSCALE:GREGORIAN
METHOD:PUBLISH
X-ORIGINAL-URL:https://dstquakercity.org
X-WR-CALDESC:Events for Delta Sigma Theta Sorority, Inc. Quaker City Alumnae Chapter
REFRESH-INTERVAL;VALUE=DURATION:PT1H
X-Robots-Tag:noindex
X-PUBLISHED-TTL:PT1H
BEGIN:VTIMEZONE
TZID:America/New_York
BEGIN:DAYLIGHT
TZOFFSETFROM:-0500
TZOFFSETTO:-0400
TZNAME:EDT
DTSTART:20200308T070000
END:DAYLIGHT
BEGIN:STANDARD
TZOFFSETFROM:-0400
TZOFFSETTO:-0500
TZNAME:EST
DTSTART:20201101T060000
END:STANDARD
BEGIN:DAYLIGHT
TZOFFSETFROM:-0500
TZOFFSETTO:-0400
TZNAME:EDT
DTSTART:20210314T070000
END:DAYLIGHT
BEGIN:STANDARD
TZOFFSETFROM:-0400
TZOFFSETTO:-0500
TZNAME:EST
DTSTART:20211107T060000
END:STANDARD
BEGIN:DAYLIGHT
TZOFFSETFROM:-0500
TZOFFSETTO:-0400
TZNAME:EDT
DTSTART:20220313T070000
END:DAYLIGHT
BEGIN:STANDARD
TZOFFSETFROM:-0400
TZOFFSETTO:-0500
TZNAME:EST
DTSTART:20221106T060000
END:STANDARD
END:VTIMEZONE
BEGIN:VEVENT
DTSTART;TZID=America/New_York:20211210T190000
DTEND;TZID=America/New_York:20211210T210000
DTSTAMP:20260420T042331
CREATED:20211116T173709Z
LAST-MODIFIED:20211116T174413Z
UID:1744-1639162800-1639170000@dstquakercity.org
SUMMARY:Holly Jolly It's FriYay! Let's Partay!
DESCRIPTION:Registration
URL:https://dstquakercity.org/event/holly-jolly-its-friyay-lets-partay/
ATTACH;FMTTYPE=image/jpeg:https://dstquakercity.org/wp-content/uploads/2021/11/Holly-Jolly-event-flyer.jpg
END:VEVENT
BEGIN:VEVENT
DTSTART;TZID=America/New_York:20211210T200000
DTEND;TZID=America/New_York:20211210T203000
DTSTAMP:20260420T042331
CREATED:20211116T174103Z
LAST-MODIFIED:20211211T005347Z
UID:1747-1639166400-1639168200@dstquakercity.org
SUMMARY:Gift Card Tree Raffle
DESCRIPTION:
URL:https://dstquakercity.org/event/gift-card-tree-raffle/
ATTACH;FMTTYPE=image/png:https://dstquakercity.org/wp-content/uploads/2021/11/Red-Tree-Funny-Christmas-Card.png
END:VEVENT
END:VCALENDAR