BEGIN:VCALENDAR
VERSION:2.0
PRODID:-//Delta Sigma Theta Sorority, Inc. Quaker City Alumnae Chapter - ECPv6.15.20//NONSGML v1.0//EN
CALSCALE:GREGORIAN
METHOD:PUBLISH
X-ORIGINAL-URL:https://dstquakercity.org
X-WR-CALDESC:Events for Delta Sigma Theta Sorority, Inc. Quaker City Alumnae Chapter
REFRESH-INTERVAL;VALUE=DURATION:PT1H
X-Robots-Tag:noindex
X-PUBLISHED-TTL:PT1H
BEGIN:VTIMEZONE
TZID:America/New_York
BEGIN:DAYLIGHT
TZOFFSETFROM:-0500
TZOFFSETTO:-0400
TZNAME:EDT
DTSTART:20200308T070000
END:DAYLIGHT
BEGIN:STANDARD
TZOFFSETFROM:-0400
TZOFFSETTO:-0500
TZNAME:EST
DTSTART:20201101T060000
END:STANDARD
BEGIN:DAYLIGHT
TZOFFSETFROM:-0500
TZOFFSETTO:-0400
TZNAME:EDT
DTSTART:20210314T070000
END:DAYLIGHT
BEGIN:STANDARD
TZOFFSETFROM:-0400
TZOFFSETTO:-0500
TZNAME:EST
DTSTART:20211107T060000
END:STANDARD
BEGIN:DAYLIGHT
TZOFFSETFROM:-0500
TZOFFSETTO:-0400
TZNAME:EDT
DTSTART:20220313T070000
END:DAYLIGHT
BEGIN:STANDARD
TZOFFSETFROM:-0400
TZOFFSETTO:-0500
TZNAME:EST
DTSTART:20221106T060000
END:STANDARD
END:VTIMEZONE
BEGIN:VEVENT
DTSTART;TZID=America/New_York:20211201T190000
DTEND;TZID=America/New_York:20211201T200000
DTSTAMP:20260420T043708
CREATED:20211128T142531Z
LAST-MODIFIED:20211128T235112Z
UID:1766-1638385200-1638388800@dstquakercity.org
SUMMARY:World AIDS Day: HIV | AIDS & the Mature Adult
DESCRIPTION:Registration
URL:https://dstquakercity.org/event/world-aids-day-hiv-aids-and-the-mature-adult/
ATTACH;FMTTYPE=image/jpeg:https://dstquakercity.org/wp-content/uploads/2021/11/phonto57.jpg
END:VEVENT
END:VCALENDAR