BEGIN:VCALENDAR
VERSION:2.0
PRODID:-//Delta Sigma Theta Sorority, Inc. Quaker City Alumnae Chapter - ECPv6.15.20//NONSGML v1.0//EN
CALSCALE:GREGORIAN
METHOD:PUBLISH
X-WR-CALNAME:Delta Sigma Theta Sorority, Inc. Quaker City Alumnae Chapter
X-ORIGINAL-URL:https://dstquakercity.org
X-WR-CALDESC:Events for Delta Sigma Theta Sorority, Inc. Quaker City Alumnae Chapter
REFRESH-INTERVAL;VALUE=DURATION:PT1H
X-Robots-Tag:noindex
X-PUBLISHED-TTL:PT1H
BEGIN:VTIMEZONE
TZID:America/New_York
BEGIN:DAYLIGHT
TZOFFSETFROM:-0500
TZOFFSETTO:-0400
TZNAME:EDT
DTSTART:20200308T070000
END:DAYLIGHT
BEGIN:STANDARD
TZOFFSETFROM:-0400
TZOFFSETTO:-0500
TZNAME:EST
DTSTART:20201101T060000
END:STANDARD
BEGIN:DAYLIGHT
TZOFFSETFROM:-0500
TZOFFSETTO:-0400
TZNAME:EDT
DTSTART:20210314T070000
END:DAYLIGHT
BEGIN:STANDARD
TZOFFSETFROM:-0400
TZOFFSETTO:-0500
TZNAME:EST
DTSTART:20211107T060000
END:STANDARD
BEGIN:DAYLIGHT
TZOFFSETFROM:-0500
TZOFFSETTO:-0400
TZNAME:EDT
DTSTART:20220313T070000
END:DAYLIGHT
BEGIN:STANDARD
TZOFFSETFROM:-0400
TZOFFSETTO:-0500
TZNAME:EST
DTSTART:20221106T060000
END:STANDARD
END:VTIMEZONE
BEGIN:VEVENT
DTSTART;TZID=America/New_York:20211025T190000
DTEND;TZID=America/New_York:20211025T200000
DTSTAMP:20260420T072157
CREATED:20211014T164119Z
LAST-MODIFIED:20211014T164242Z
UID:1714-1635188400-1635192000@dstquakercity.org
SUMMARY:Delta Gems & Delta Academy Parent Meeting
DESCRIPTION:Register Now
URL:https://dstquakercity.org/event/delta-gems-delta-academy-parent-meeting/
ATTACH;FMTTYPE=image/jpeg:https://dstquakercity.org/wp-content/uploads/2021/10/Screenshot_20211013-155045_Adobe_Acrobat.jpg
END:VEVENT
END:VCALENDAR